BEGIN:VCALENDAR
VERSION:2.0
PRODID:-//Uprawnienia Elektryczne Śląsk, Katowice
CALSCALE:GREGORIAN
METHOD:PUBLISH
X-WR-CALNAME:Uprawnienia Elektryczne Śląsk, Katowice
X-ORIGINAL-URL:https://uprawnieniaelektryczne.pl/produkt/szkolenie-energetyczne-g1-eksploatacja-i-dozor-08-00-13-00-z-egzaminem-11-00-36/
X-WR-CALDESC:Szkolenie energetyczne G1 eksploatacja i dozór (08.00 &#8211; 13.00) z egzaminem (11.00)
BEGIN:VEVENT
DTSTART;TZID=Europe/Helsinki:20260615T080000
DTEND;TZID=Europe/Helsinki:20260615T130000
SUMMARY:Szkolenie energetyczne G1 eksploatacja i dozór (08.00 – 13.00) z egzaminem (11.00)
DESCRIPTION:
URL:https://uprawnieniaelektryczne.pl/produkt/szkolenie-energetyczne-g1-eksploatacja-i-dozor-08-00-13-00-z-egzaminem-11-00-36/
LOCATION:
END:VEVENT
END:VCALENDAR
