BEGIN:VCALENDAR
VERSION:2.0
PRODID:-//Uprawnienia Elektryczne Śląsk, Katowice
CALSCALE:GREGORIAN
METHOD:PUBLISH
X-WR-CALNAME:Uprawnienia Elektryczne Śląsk, Katowice
X-ORIGINAL-URL:https://uprawnieniaelektryczne.pl/produkt/szkolenie-energetyczne-g2-eksploatacja-i-dozor-08-00-11-00-z-egzaminem-11-00-2/
X-WR-CALDESC:Szkolenie energetyczne G2 eksploatacja i dozór (08.00 &#8211; 11.00) z egzaminem (11.00)
BEGIN:VEVENT
DTSTART;TZID=Europe/Helsinki:20260509T080000
DTEND;TZID=Europe/Helsinki:20260509T110000
SUMMARY:Szkolenie energetyczne G2 eksploatacja i dozór (08.00 – 11.00) z egzaminem (11.00)
DESCRIPTION:
URL:https://uprawnieniaelektryczne.pl/produkt/szkolenie-energetyczne-g2-eksploatacja-i-dozor-08-00-11-00-z-egzaminem-11-00-2/
LOCATION:
END:VEVENT
END:VCALENDAR
